Workbook

Sheet SummaryPage
E4: Return Due: 16 October 2024
B6: WHOLE SYSTEM CHECKLIST RETURN - AREA DETAILS | H6: SUMMARY DASHBOARD
B8: Board | C8: NHS Highland | E8: Partnerships | F8: =IFERROR(INDEX(List!$B$4:$B$25,MATCH(SummaryPage!C8, List!$A$4:$A$25, 0)),"Auto Populated") -> Argyll & Bute, Highland | H8: # | I8: Area | J8: Progress | K8: Status | L8: Partial | M8: No | N8: Yes | O8: n/a
C9: Please select Health Board from drop down above | H9: 1 | J9: =Section1!C3 -> Not started | K9: =Section1!C5 -> #REF! | L9: =COUNTIF(Section1!D8:D17,SummaryPage!L8) -> 0 | M9: =COUNTIF(Section1!D8:D17,SummaryPage!M8) -> 0 | N9: =COUNTIF(Section1!D8:D17,SummaryPage!N8) -> 0 | O9: =COUNTIF(Section1!D8:D17,SummaryPage!O8) -> 0
B10: Board Chief Executive | C10: =IFERROR(INDEX(List!$D$4:$D$25, MATCH(SummaryPage!C8, List!A4:A25, 0)), "Auto Populated") -> Fiona Davies | E10: Chief Officers | F10: Katherine Sutton, Arlene Johnstone, Evan Beswick | H10: 2 | J10: =Section2!C3 -> Not started | K10: =Section2!C5 -> #REF! | L10: =COUNTIF(Section2!D8:D28, SummaryPage!L8) -> 7 | M10: =COUNTIF(Section2!D8:D28,SummaryPage!M8) -> 0 | N10: =COUNTIF(Section2!D8:D28,SummaryPage!N8) -> 0 | O10: =COUNTIF(Section2!D8:D28,SummaryPage!O8) -> 0
H11: 3 | J11: =Section3!C3 -> Not started | K11: =Section3!C5 -> #REF! | L11: =COUNTIF(Section3!D8:D24,SummaryPage!L8) -> 0 | M11: =COUNTIF(Section3!D8:D24,SummaryPage!M8) -> 0 | N11: =COUNTIF(Section3!D8:D24,SummaryPage!N8) -> 0 | O11: =COUNTIF(Section3!D8:D24,SummaryPage!O8) -> 0
B12: Number of integration partnerships | C12: =IFERROR(INDEX(List!$C$4:$C$25, MATCH(SummaryPage!C8, List!$A$4:$A$25, 0)), "Auto Populated") -> 2 | E12: Submitted by | H12: 4 | J12: =Section4!C3 -> Not started | K12: =Section4!C5 -> #REF! | L12: =COUNTIF(Section4!D8:D18,SummaryPage!L8) -> 0 | M12: =COUNTIF(Section4!D8:D18,SummaryPage!M8) -> 0 | N12: =COUNTIF(Section4!D8:D18,SummaryPage!N8) -> 0 | O12: =COUNTIF(Section4!D8:D18,SummaryPage!O8) -> 0
E13: Approved by
E14: Date of approval

Sheet Section1
A1: Section 1
B3: Progress Status | C3: Not started | D3: Manual dropdown - use this box to track your progress
B5: Overall Status | C5: {=_xlfn.IFS(#REF!>#REF!,"Partial and/or No",#REF! =#REF!, "Yes",#REF! <#REF!, "Incomplete")} -> #REF! | D5: Automatic status
A7: Subsection | B7: # | C7: Statement | D7: Response | E7: Rationale for response rating | F7: Words
A8: Overarching principles | B8: 1.1 | C8: There are sufficient mechanisms in place to support the collaboration and co-operation with other Boards and Partnerships in the delivery of health and care. | F8: =LEN(TRIM(E8))-LEN(SUBSTITUTE(E8," ",""))+1 -> 1
A9: Overarching principles | B9: 1.2 | C9: Plans have been developed through joint working between the Board, associated HSCPs, and other key partners (i.e. Primary Care practitioners, SAS, Scottish Prison Service, care at home and care home providers etc.). a) It is clear to all parties how plans will be delivered through joint mechanisms. | F9: =LEN(TRIM(E9))-LEN(SUBSTITUTE(E9," ",""))+1 -> 1
A10: Overarching principles | B10: 1.3 | C10: Winter Planning includes demand, capacity, and activity plans across all health and care delivery (including urgent, unscheduled, social care and planned care provision). a) Projected staffing levels in your acute wards and community hospital wards are sufficient for the winter period; if no, please provide further detail. | F10: =LEN(TRIM(E10))-LEN(SUBSTITUTE(E10," ",""))+1 -> 1
A11: Resilience preparedness | B11: 1.4 | C11: Planning for winter reflects identification of surge capacity to ensure capacity is made across the health and care system to allow new emergency admissions to be accommodated. | F11: =LEN(TRIM(E11))-LEN(SUBSTITUTE(E11," ",""))+1 -> 1
A12: Resilience preparedness | B12: 1.5 | C12: Business Continuity Management arrangements are in place and regularly reviewed, exercised, and updated. These are in accordance with Civil Contingencies Act 2004 for Category 1 and 2 organisations and other guidance including: a) NHS Scotland Standards for Organisational Resilience 2018. b) Preparing For Emergencies: Guidance for Health Boards in Scotland. | F12: =LEN(TRIM(E12))-LEN(SUBSTITUTE(E12," ",""))+1 -> 1
A13: Resilience preparedness | B13: 1.6 | C13: Plans have identified potential disruptive risks to service delivery and associated mitigation responses. These incorporate lessons identified from Winter 2024/25 in addition to concurrent risks. Resilience Teams are involved in winter preparedness to ensure that business continuity management principles are embedded as part of year-round capacity and service continuity planning. | F13: =LEN(TRIM(E13))-LEN(SUBSTITUTE(E13," ",""))+1 -> 1
A14: Resilience preparedness | B14: 1.7 | C14: Business Continuity plans take into account critical activities across the NHS Board / HSCPs spectrum of activity and include analysis of the risks of disruption and their actual effects and demonstrate that planning has been based upon the likelihood and impact of worst-case scenarios. | F14: =LEN(TRIM(E14))-LEN(SUBSTITUTE(E14," ",""))+1 -> 1
A15: Resilience preparedness | B15: 1.8 | C15: Business continuity plans include response(s) if a clinical system outage occurs and the steps required to ensure continuity of services. | F15: =LEN(TRIM(E15))-LEN(SUBSTITUTE(E15," ",""))+1 -> 1
A16: Communications | B16: 1.9 | C16: Local communication plans: A review has been undertaken of communication channels to ensure that key messages about winter planning are clearly and consistently delivered to all parties, involved. This includes : a) Key partner communication protocols b) OOH information including four day festive period c) Surgery hours & access arrangements General practices contingency plans for respiratory disease outbreaks d) Signposting to Scottish Government assistance for households struggling to meet their energy bills. e) Service-linked communications issued, whether online or printed format, include content or text highlighting where public can access information on which service is right for which medical need, such as nhsinform.scot/right-care | F16: =LEN(TRIM(E16))-LEN(SUBSTITUTE(E16," ",""))+1 -> 1
A17: Step up / Step down care | B17: 1.1 | C17: Boards and HSCPs can evidence plans to increase the provision of intermediate care to impact positively on patients and services over the winter; and work towards building sustainability for the future. | F17: =LEN(TRIM(E17))-LEN(SUBSTITUTE(E17," ",""))+1 -> 1

Sheet Section2
A1: Section 2
B3: Progress Status | C3: Not started | D3: Manual dropdown - use this box to track your progress
B5: Overall Status | C5: {=_xlfn.IFS(#REF!>#REF!,"Partial and/or No",#REF! =#REF!, "Yes",#REF! <#REF!, "Incomplete")} -> #REF! | D5: Automatic status
A7: Subsection | B7: # | C7: Statement | D7: Response | E7: Rationale for response rating | F7: Words
A8: Urgent & Unscheduled Care | B8: 2.1 | C8: To ensure Right Care is provided in the Right Place, a 24/7 Health Board Flow Navigation Centre is in place to offer rapid access to a senior clinical decision maker as well as the option of appointments via Near Me. | D8: Partial | E8: FNC 0800 - Midnight. 24/7 cover stopped due to low call volume CGH: Throughput from FNC minimal. Appointments/clinics available on NearMe. Belford: Throughout from FNC minimal. Appointments/clinics available on NearMe. | F8: =LEN(TRIM(E8))-LEN(SUBSTITUTE(E8," ",""))+1 -> 28
A9: Urgent & Unscheduled Care | B9: 2.2 | C9: Effective communication protocols are in place to support whole-system situational awareness of emerging pressures. Monitoring of key indicators across the system forms the basis of huddle discussions. This ‘early warning system’ should highlight areas of concern and drive action to maintain or regain a balanced system. | D9: Partial | E9: Community service, MH and acute have own OPEL but these are not joined up. Acute pessures take presidence - and escalation involves all parts of the system. RGHs currently using local OPEL tools and action cards. Belford initiating this, with CGH following suit. Whole system OPEL ready to test. | F9: =LEN(TRIM(E9))-LEN(SUBSTITUTE(E9," ",""))+1 -> 47
A10: Urgent & Unscheduled Care | B10: 2.3 | C10: Robust communication processes are in place across each hospital site, following Discharge Without Delay (DWD principles) including morning hospital-safety huddles, focusing on the day's activity and current status, and afternoon huddles, setting Planned Date of Discharge and using this to predict capacity and demand for the next day. a) There is a Home First / Transition Team in place to support hospital discharge and Discharge to Assess; please provide further detail. | D10: Partial | E10: DMT & DWD principles in place in alll sites. Not confident that all sites embracing Home First. CGH: In place through discharge coordinator (ED), safety huddles take place every morning and afternoon. This will continue over winter period. HomeFirst/Transition Team not in place for Caithness. Belford: Safety huddles in place, daily DMT, discharge app in place. | F10: =LEN(TRIM(E10))-LEN(SUBSTITUTE(E10," ",""))+1 -> 54
A11: Urgent & Unscheduled Care | B11: 2.4 | C11: Emergency Physician in Charge (EPIC), Flow Co-Ordinator roles are in place where possible to provide dedicated leadership in Emergency Departments. A Discharge Co-ordinator is in place in each ED to act as a single point of contact (SPOC) to arrange rapid discharge from ED and take responsibility for co-ordinating community support. | D11: Partial | E11: EPIC cover 24/7 to support SCDM. Flow co-ordinators now also cover 24/7, along with senior nurse cover in ED and recieving units. AHP at the front door embedded in ED 0900-1700hrs along with rapid acces to SPOC. CGH: Rural emergency physicians in place, but they do not work over a 24 hour rota period. On-call physicians in place (consultant / geriatrician / REP). Belford: EPIC (consultant) not in place in ED - established for 2.5 WTE rural emergency practitioners: consultant on-call model in place for medical, surgical and aneaesthist. Medical model under review through Lochaber redesign programme. Flow coordinator role not in place. | F11: =LEN(TRIM(E11))-LEN(SUBSTITUTE(E11," ",""))+1 -> 101
A12: Urgent & Unscheduled Care | B12: 2.5 | C12: Pathways are in place which provide care closer to home through pathways such as Hospital at Home for Older People; Respiratory Rapid Response and Out-patient Parental Antibiotic Therapy (OPAT); and supported by appropriate digital interventions such as Remote Consultation by phone and Near Me and Remote Monitoring, call before convey with SAS and flow navigation hub working to maximise virtual/remote Monitoring. | D12: Partial | E12: H@H in development for Inverness, RRR and OPAT embedded. Close working with SAS for Safe Transfer to Hospital and SAS escalation proccesses embedded. Redesign if FNC in progress which will offer pathways to MIU, SDEC, Prof2Prof and Before Convey. CGH: OPAT - day-case team in place; requires refinement from a patient flow perspective. H@H not in scope for FY 25/26. Belford: OPAT - day-case team in place. H@H not in scope for FY 25/26. | F12: =LEN(TRIM(E12))-LEN(SUBSTITUTE(E12," ",""))+1 -> 72
A13: Urgent & Unscheduled Care | B13: 2.6 | C13: Boards and Partnerships have effective organisation of care across between primary and secondary care so that patients receive high-quality care and the best use is made of clinical time and resources in both settings. This could be through a mechanism such as an Interface Group. | D13: Partial | E13: A number of Interface groups exist for the operational, tactical and strategic management of the organisation. CGH: Limited from a community capacity perspective. An interface group for CGH is a work in progress. Belford: DMT meetings in place. Limited from a community capacity perspective. | F13: =LEN(TRIM(E13))-LEN(SUBSTITUTE(E13," ",""))+1 -> 42
A14: Urgent & Unscheduled Care | B14: 2.7 | C14: Escalation procedures are directly linked to a plan which encompasses the full use of step-down community facilities. | D14: Partial | E14: OPEL used as the recognsed escalation tool across Inverness acute & H&SCP. Plans are discussed and agreed through a process of Operational, Tactical and Strategic meetings with representaion from all stakeholders including SAS CGH: Not yet in place; limited in step-down resources. Belford: Not yet in place; limited in step-down resources. | F14: =LEN(TRIM(E14))-LEN(SUBSTITUTE(E14," ",""))+1 -> 49
A15: Urgent & Unscheduled Care | B15: 2.8 | C15: Boards and HSCPs have additional festive arrangements, over the four-day public holiday, planned in collaboration with partner organisations such as Local authorities, Police Scotland, SAS and the local Voluntary Sector and in line with recommendations from the Four Day Public Holiday Review. | F15: =LEN(TRIM(E15))-LEN(SUBSTITUTE(E15," ",""))+1 -> 1
A16: Urgent & Unscheduled Care | B16: 2.9 | C16: Patients identified as being at high risk of admission from both the SPARRA register and local intelligence, and who have a care manager allocated to them, will be identifiable on contact with OOH and acute services to help prevent admissions and facilitate appropriate early discharge. | F16: =LEN(TRIM(E16))-LEN(SUBSTITUTE(E16," ",""))+1 -> 1
A17: Urgent & Unscheduled Care | B17: 2.1 | C17: Processes are in place to enable patients with respiratory conditions and those who are frail are given the opportunity to have an anticipatory or future care plan. There should be a system in place for identifying these individuals and it should be clear which professional clinical groups will take a lead on having these care planning conversations depending on the persons circumstances. | F17: =LEN(TRIM(E17))-LEN(SUBSTITUTE(E17," ",""))+1 -> 1
A18: Urgent & Unscheduled Care | B18: 2.11 | C18: Pathways are in place for patients who are identified as ‘frail’ and those with respiratory or cardiac exacerbations, and these are embedded within primary care services, in and out of hours, as alternatives to admissions. | F18: =LEN(TRIM(E18))-LEN(SUBSTITUTE(E18," ",""))+1 -> 1
A19: Urgent & Unscheduled Care | B19: 2.12 | C19: People living with a respiratory condition have access to a respiratory team 7 days a week, should they become unable to self-manage their condition from home. People with heart failure and those who are living with frailty should be given the opportunity to have an anticipatory or future care plan. | F19: =LEN(TRIM(E19))-LEN(SUBSTITUTE(E19," ",""))+1 -> 1
A20: Urgent & Unscheduled Care | B20: 2.13 | C20: Care Homes will be supported with timely access to professional support and clinical advice to enable admission prevention and more planned interventions to keep residents safe in their own home. This includes proactive contact on at least a weekly basis to discuss any residents the care home staff are concerned about and agree a plan of care and interventions if these should be required. Remote consultations via phone or Near Me video consultation should be available. | F20: =LEN(TRIM(E20))-LEN(SUBSTITUTE(E20," ",""))+1 -> 1
A21: Urgent & Unscheduled Care | B21: 2.14 | C21: For Health Boards with Major Trauma Centres (Grampian, GGC, Lothian, Tayside), to incorporate into their winter surge plans, assurance of sufficient safe staffing on MTCs (both adult and paediatric) to ensure Scottish Trauma Network MTCs will continue to deliver high quality, integrated, multi-speciality care to severely injured patients. Further consideration is also required for those Boards with Major Trauma Units to similarly support safe staffing. | F21: =LEN(TRIM(E21))-LEN(SUBSTITUTE(E21," ",""))+1 -> 1
A22: Urgent & Unscheduled Care | B22: 2.15 | C22: Where admission is necessary, ensure there is a mechanism and/or agreements in place with primary care and secondary care clinicians to minimise delays in pathway, and avoid multiple discussions that can lead to delays; recognising that in periods of increased demand, general practice may not have the functional capacity to follow the usual processes such as pathways for admission. | F22: =LEN(TRIM(E22))-LEN(SUBSTITUTE(E22," ",""))+1 -> 1
A23: Planned Care | B23: 2.16 | C23: Plans are in place to maintain activity over winter for planned care, including outpatients and inpatient / daycase, diagnostics, imaging and cancer, with plans considering the impact of increased unscheduled admissions on planned care activity. Planned care activity will not be paused or cancelled routinely – if Health Boards need to consider this as part of their business continuity / escalation plans it needs to be discussed and agreed in advance with Scottish Government. | F23: =LEN(TRIM(E23))-LEN(SUBSTITUTE(E23," ",""))+1 -> 1
A24: Planned Care | B24: 2.17 | C24: Health Boards are considering opportunities to maximise capacity through Pooled Lists - locally for high volume specialties and pooled lists regionally / nationally for those patients waiting the longest. | F24: =LEN(TRIM(E24))-LEN(SUBSTITUTE(E24," ",""))+1 -> 1
A25: Planned Care | B25: 2.18 | C25: Health Boards are making use of the National Elective Coordination Unit (NECU) to support admin and clinical validation. | F25: =LEN(TRIM(E25))-LEN(SUBSTITUTE(E25," ",""))+1 -> 1
A26: Planned Care | B26: 2.19 | C26: For those Health Boards with National Treatment Centres (NTCs), plans are in place to enhance and maximise use of the NTCs through winter and beyond. | F26: =LEN(TRIM(E26))-LEN(SUBSTITUTE(E26," ",""))+1 -> 1
... A28: Digital assets | B28: 2.21 | C28: Plans are in place to support the availability of Near Me video consultations to optimise estate and workforce capacity. | F28: =LEN(TRIM(E28))-LEN(SUBSTITUTE(E28," ",""))+1 -> 1

Sheet Section3
A1: Section 3
B3: Progress Status | C3: Not started | D3: Manual dropdown - use this box to track your progress
B5: Overall Status | C5: {=_xlfn.IFS(#REF!>#REF!,"Partial and/or No",#REF! =#REF!, "Yes",#REF! <#REF!, "Incomplete")} -> #REF! | D5: Automatic status
A7: Subsection | B7: # | C7: Statement | D7: Response | E7: Rationale for response rating | F7: Words
A8: Primary Care | B8: 3.1 | C8: Plans are in place to support General Practice (and where necessary other independent contractors) to manage provision of core General Medical Services (and sustainability more widely) over the winter period. Specific reference should be made to contingency arrangements where practices are unable to open (or provide General Medical Services) due to staffing or other reasons. Health Boards and HSCPs should ensure that where services are reduced or unavailable they support the practice with communications to patients including alternative arrangements. | F8: =LEN(TRIM(E8))-LEN(SUBSTITUTE(E8," ",""))+1 -> 1
A9: Primary Care | B9: 3.2 | C9: Maximising Multi-Disciplinary Teams (MDTs) Plans explicitly reference the use of MDTs within OOH services; indicate where increased use of MDTs are in place. This includes increasing capacity of senior clinical and non- clinical leadership, use of multidisciplinary teams and availability of professional-to-professional advice across acute and community. | F9: =LEN(TRIM(E9))-LEN(SUBSTITUTE(E9," ",""))+1 -> 1
A10: Primary Care | B10: 3.3 | C10: Executive level overview and oversight for Out of Hours (OOH) A Primary Care OOH winter plan has been signed off at Executive level, with clear escalation processes in place. There is Board Executive level oversight of OOH to support resilience, explore other operational solutions and agree appropriate escalation plans during the winter period given its essential role as a “front door” service | F10: =LEN(TRIM(E10))-LEN(SUBSTITUTE(E10," ",""))+1 -> 1
A11: Primary Care | B11: 3.4 | C11: Link with wider winter plans and engagement with SAS and NHS 24 to improve system resilience. The plan puts Primary Care OOH within the context of winter readiness preparedness, as part of the urgent/unscheduled care landscape and whole system local planning, including community and social care responses through urgent care resource hubs/flow navigation centres (FNCs), or equivalent. | F11: =LEN(TRIM(E11))-LEN(SUBSTITUTE(E11," ",""))+1 -> 1
A12: Primary Care | B12: 3.5 | C12: NHS Board Directors of Dentistry engage with NHS 24 to ensure they have sufficient capacity in place to meet any potential increased demand for out of hours care during the winter period | F12: =LEN(TRIM(E12))-LEN(SUBSTITUTE(E12," ",""))+1 -> 1
A13: Primary Care | B13: 3.6 | C13: Provision of OOH dental services Plans reference provision of dental services; services are in place either via general dental practices or out of hours centres. This should include an agreed escalation process for emergency dental cases, i.e. trauma, uncontrolled bleeding and increasing swelling. | F13: =LEN(TRIM(E13))-LEN(SUBSTITUTE(E13," ",""))+1 -> 1
A14: Primary Care | B14: 3.7 | C14: Working with mental health services HSCPs should have clear arrangements in place to enable access to mental health crisis teams/services 24/7, including availability of professional to professional advice for out of hours services, particularly during the festive period | F14: =LEN(TRIM(E14))-LEN(SUBSTITUTE(E14," ",""))+1 -> 1
A15: Primary Care | B15: 3.8 | C15: Increased level of professional-to-professional advice Boards and HSCPs have increased, where possible, the availability of professional to professional advice across acute and the community to ensure the patient receives right care in the right place at the right time. | F15: =LEN(TRIM(E15))-LEN(SUBSTITUTE(E15," ",""))+1 -> 1
A16: Primary Care | B16: 3.9 | C16: Working with social care OOH Plans demonstrate consideration to social care services and where possible close links are in place for emergency respite, community alarm services and home care provision. OOH Plans will identify how Care Homes will be supported with timely access to professional support and clinical advice (particularly in the OOH period) to enable admission prevention and more planned interventions to keep residents safe in their own home. | F16: =LEN(TRIM(E16))-LEN(SUBSTITUTE(E16," ",""))+1 -> 1
A17: Primary Care | B17: 3.1 | C17: Winter readiness plans consider the needs of those living with a mental health, learning disability, neurodiverse or dementia diagnosis, including the needs of carers. | F17: =LEN(TRIM(E17))-LEN(SUBSTITUTE(E17," ",""))+1 -> 1
A18: Primary Care | B18: 3.11 | C18: Plans to ensure appropriate staffing levels include consideration of mental health services and the need to maintain support for service provision and patient rehabilitation (such as suspension of detention), including for forensic mental health patients. | F18: =LEN(TRIM(E18))-LEN(SUBSTITUTE(E18," ",""))+1 -> 1
A19: Primary Care | B19: 3.12 | C19: The discharge partnership working plans include consideration of those requiring mental health supports and/or being discharged from a mental health setting, including the unique support package needs of those leaving forensic inpatient settings or with complex care needs. | F19: =LEN(TRIM(E19))-LEN(SUBSTITUTE(E19," ",""))+1 -> 1
... A24: Social Care | B24: 3.17 | C24: Capacity to deliver key public protection functions is in place e.g. child and adult protection, MAPPA (Multi Agency Public Protections Arrangements) | F24: =LEN(TRIM(E24))-LEN(SUBSTITUTE(E24," ",""))+1 -> 1

Sheet Section4
A1: Section 4
B3: Progress Status | C3: Not started | D3: Manual dropdown - use this box to track your progress
B5: Overall Status | C5: {=_xlfn.IFS(#REF!>#REF!,"Partial and/or No",#REF! =#REF!, "Yes",#REF! <#REF!, "Incomplete")} -> #REF! | D5: Automatic status
A7: Subsection | B7: # | C7: Statement | D7: Response | E7: Rationale for response rating | F7: Words
A8: Workforce | B8: 4.1 | C8: Appropriate steps are being taken to support recruitment of staff on an ongoing basis within recognised financial parameters, utilising the full range of potential contractual arrangements including (but not limited to) Permanent, Sessional Worker, Bank or Fixed Term contracts (or a combination of these). Work undertaken with local college and HEI student workforce to offer holiday shifts and regular part time contracts can be evidenced. | F8: =LEN(TRIM(E8))-LEN(SUBSTITUTE(E8," ",""))+1 -> 1
A9: Workforce | B9: 4.2 | C9: Boards and HSCPs are continuously deploying the range of tools available to them to support efforts aimed at staff retention. For Boards, this is including but not limited to those set out through DL (2022) 30: DL(2022)30.pdf (scot.nhs.uk) to enable those staff who have retired to return to work on a part time basis should they wish to do so. | F9: =LEN(TRIM(E9))-LEN(SUBSTITUTE(E9," ",""))+1 -> 1
A10: Workforce | B10: 4.3 | C10: Plans are in place for appropriate levels of staffing across the whole system to facilitate efficient and effective patient care, ensuring consistent effective discharge planning takes place over 7 days and the holiday periods. This requires sufficient senior medical and other senior clinical decision makers to facilitate decision-making, and pharmacists to prepare timely discharge medications. For HSCPs, this includes sufficient social work staff and others associated with discharge planning. | F10: =LEN(TRIM(E10))-LEN(SUBSTITUTE(E10," ",""))+1 -> 1
A11: Workforce | B11: 4.4 | C11: A strategy is in place for the deployment of volunteers over winter, making appropriate use of established local and national partnerships. Investment in and funding of local voluntary and third sector organisations to support care@home teams and provide practical support to people who are ready for discharge, and across the wider community can be evidenced. | F11: =LEN(TRIM(E11))-LEN(SUBSTITUTE(E11," ",""))+1 -> 1
A12: Workforce | B12: 4.5 | C12: Staff are appropriately supported to access the range of available local and national staff wellbeing resources. This includes Primary Care independent contractor staff. | F12: =LEN(TRIM(E12))-LEN(SUBSTITUTE(E12," ",""))+1 -> 1
A13: Workforce | B13: 4.6 | C13: In relation to potential adverse weather, Boards and Partnerships have contingency plans in place covering staff disruption to manage the impacts – for NHS this is specifically according to DL(2022)35.pdf (scot.nhs.uk). Staff are fully aware of the contingency plan. | F13: =LEN(TRIM(E13))-LEN(SUBSTITUTE(E13," ",""))+1 -> 1
A14: Seasonal outbreak | B14: 4.7 | C14: COVID-19, RSV, Norovirus, Seasonal Flu, Staff Protection & Outbreak Resourcing All patient-facing (i.e. “frontline”) Health and Social Care Staff (including Primary Care independent contractor staff) and ALL NHS workers have easy and convenient access to the seasonal flu vaccine and that: a) staff are able to drop in to any community clinic without needing to make an appointment b) peer to peer vaccination for flu is facilitated, where practicable, to bring the vaccine as close to the place of work for staff as possible. c) information and guidance is provided to staff on how to book appointments via the online portal or the National Vaccination Helpline and that they can drop in to any clinic without needing to book. d) Information and guidance / promotional materials are provided to staff on the benefits of vaccination for both themselves, their colleagues and their patients. (Full details on the programme can be found in the annual flu CMO letter.) | F14: =LEN(TRIM(E14))-LEN(SUBSTITUTE(E14," ",""))+1 -> 1
A15: Seasonal outbreak | B15: 4.8 | C15: Plans take into account the predicted surge of Covid-19 as well as other viruses including seasonal flu, RSV and Norovirus activity that can happen between October and March and have adequate resources in place to deal with potential outbreaks and the impact these have on services (health and social care inclusive of primary care) across this period. | F15: =LEN(TRIM(E15))-LEN(SUBSTITUTE(E15," ",""))+1 -> 1
A16: Seasonal outbreak | B16: 4.9 | C16: Adequate resources are in place to manage all potential increases in Covid-19 including possible new variants with increased severity, RSV and seasonal flu that might coincide with norovirus, severe weather and festive holiday periods. Debriefs should be undertaken following significant outbreaks or end of season outbreaks to identify lessons and ensure system modifications to reduce the risk of future outbreaks | F16: =LEN(TRIM(E16))-LEN(SUBSTITUTE(E16," ",""))+1 -> 1
A17: Seasonal outbreak | B17: 4.1 | C17: To help detect early warnings of imminent surges in activity, Boards routinely monitor PHS weekly publications, showing the current epidemiological picture on COVID-19, RSV, Norovirus and influenza infections across Scotland, and PHS Whole System Model Winter outputs. | F17: =LEN(TRIM(E17))-LEN(SUBSTITUTE(E17," ",""))+1 -> 1
A18: Seasonal outbreak | B18: 4.11 | C18: Boards must ensure that staff have access to and are adhering to the national guidelines on Preparing for and Managing Norovirus in Care Settings | F18: =LEN(TRIM(E18))-LEN(SUBSTITUTE(E18," ",""))+1 -> 1

Sheet List
A3: Health Board | B3: Integration Authority | C3: Count | D3: BCE | E3: Chief Officers
A4: NHS Ayrshire and Arran | B4: East Ayrshire, North Ayrshire, South Ayrshire | C4: 3 | D4: Claire Burden | E4: Craig McArthur, Caroline Cameron, Tim Eltringham
A5: NHS Borders | B5: Scottish Borders | C5: 1 | D5: Ralph Roberts (until 30 Aug 2024) | E5: Chris Myers
A6: NHS Dumfries and Galloway | B6: Dumfries & Galloway | C6: 1 | D6: Julie White | E6: Nicole Hamlet (interim)
A7: NHS Fife | B7: Fife | C7: 1 | D7: Carol Potter | E7: Vacancy – interim arrangements tbc
A8: NHS Forth Valley | B8: Clackmannanshire & Stirling, Falkirk | C8: 2 | D8: Amanda Croft (until 30 Aug 2024) | E8: David Williams (interim), Gail Woodcock (interim)
A9: NHS Grampian | B9: Aberdeen City, Aberdeenshire, Moray | C9: 3 | D9: Adam Coldwells (Interim) | E9: Fiona Mitchelhill, Pamela Milliken, Judith Proctor
A10: NHS Greater Glasgow and Clyde | B10: East Dunbartonshire, East Renfrewshire, Glasgow City, Inverclyde, Renfrewshire, West Dubartonshire | C10: 6 | D10: Jane Grant | E10: Kate Rocks, Christine Laverty, Beth Culshaw
A11: NHS Highland | B11: Argyll & Bute, Highland | C11: 2 | D11: Fiona Davies | E11: Evan Beswick (interim), Pamela Cremin
A12: NHS Lanarkshire | B12: North Lanarkshire, South Lanarkshire | C12: 2 | D12: Jann Gardner | E12: Ross McGuffie, Soumen Sengupta
A13: NHS Lothian | B13: City of Edinburgh, East Lothian, Midlothian, West Lothian | C13: 4 | D13: Caroline Hiscox (Interim) | E13: Pat Togher, Fiona Wilson, Morag Barrow, Alison White
A14: NHS Orkney | B14: Orkney Islands | C14: 1 | D14: Laura Skaife-Knight | E14: Stephen Brown
A15: NHS Shetland | B15: Shetland Islands | C15: 1 | D15: Brian Chittick | E15: Jo Robison (interim)
... A25: The State Hospitals Board for Scotland | B25: n/a | C25: 0 | D25: Gary Jenkins | E25: n/a
A28: Integration Authority | B28: Chief Officer
A29: Aberdeen City | B29: Fiona Mitchelhill
A30: Aberdeenshire | B30: Pamela Milliken
A31: Angus | B31: Jillian Galloway
A32: Argyll and Bute | B32: Evan Beswick (interim)
A33: City of Edinburgh | B33: Pat Togher
A34: Clackmannanshire and Stirling | B34: David Williams (interim)
A35: Dumfries and Galloway | B35: Nicole Hamlet (interim)
A36: Dundee City | B36: Dave Berry (acting)
A37: East Ayrshire | B37: Craig McArthur
A38: East Dunbartonshire | B38: Derrick Pearce (interim)
A39: East Lothian | B39: Fiona Wilson
... A59: Western Isles/Na h-Eileanan an lar | B59: Nick Fayers
A63: Not started
A64: In progress
A65: Complete
A66: Approved
A70: Yes | B70: 1
A71: Partial | B71: 2
A72: No | B72: 3
A73: n/a | B73: 1
A74: Awaiting response | B74: -1
